BEGIN:VCALENDAR
PRODID:-//eluceo/ical//2.0/EN
VERSION:2.0
CALSCALE:GREGORIAN
BEGIN:VEVENT
UID:9052d3f8ffbc4be7c613a468864063ae
DTSTAMP:20260424T174412Z
SUMMARY:BBT
DESCRIPTION:
URL:https://rotaract-basel.ch/sv/agenda/show/206137
DTSTART;TZID=Europe/Zurich:20251223T200000
DTEND;TZID=Europe/Zurich:20251223T220000
LOCATION:tbd
CATEGORIES:Rotaract
END:VEVENT
BEGIN:VTIMEZONE
TZID:Europe/Zurich
BEGIN:STANDARD
DTSTART:20251223T200000
TZNAME:CET
TZOFFSETTO:+0100
TZOFFSETFROM:+0100
END:STANDARD
END:VTIMEZONE
END:VCALENDAR
