BEGIN:VCALENDAR
PRODID:-//eluceo/ical//2.0/EN
VERSION:2.0
CALSCALE:GREGORIAN
BEGIN:VEVENT
UID:0141ffcbb0f923254d26eb0f67273e81
DTSTAMP:20260424T154856Z
SUMMARY:Regelmeeting Oktober Vortrag Martin Huber Ukraine
DESCRIPTION:Webbplats: https://www.heubergkeller.ch/
URL:https://rotaract-basel.ch/sv/agenda/show/201149
DTSTART;TZID=Europe/Zurich:20251014T193000
DTEND;TZID=Europe/Zurich:20251014T203000
LOCATION:Heubergkeller\, Heuberg 26\, 4051 Basel\, Schweiz
CATEGORIES:Rotaract
END:VEVENT
BEGIN:VTIMEZONE
TZID:Europe/Zurich
BEGIN:DAYLIGHT
DTSTART:20251014T193000
TZNAME:CEST
TZOFFSETTO:+0200
TZOFFSETFROM:+0200
END:DAYLIGHT
END:VTIMEZONE
END:VCALENDAR
