BEGIN:VCALENDAR
PRODID:-//eluceo/ical//2.0/EN
VERSION:2.0
CALSCALE:GREGORIAN
BEGIN:VEVENT
UID:2bb208001e8c4d7a07257c7a194ca5d4
DTSTAMP:20260420T121712Z
SUMMARY:Regelmeeting
DESCRIPTION:Webbplats: https://www.heubergkeller.ch/
URL:https://rotaract-basel.ch/sv/agenda/show/181503
DTSTART;TZID=Europe/Zurich:20250513T193000
DTEND;TZID=Europe/Zurich:20250513T203000
LOCATION:Heuberg Keller\, Heuberg 26\, 4051 Basel\, Schweiz
CATEGORIES:Rotaract
END:VEVENT
BEGIN:VTIMEZONE
TZID:Europe/Zurich
BEGIN:DAYLIGHT
DTSTART:20250513T193000
TZNAME:CEST
TZOFFSETTO:+0200
TZOFFSETFROM:+0200
END:DAYLIGHT
END:VTIMEZONE
END:VCALENDAR
