BEGIN:VCALENDAR
PRODID:-//eluceo/ical//2.0/EN
VERSION:2.0
CALSCALE:GREGORIAN
BEGIN:VEVENT
UID:e768a360053fe23d7ea9950555c769e2
DTSTAMP:20260423T225357Z
SUMMARY:M2R El Gouna
DESCRIPTION:Webbplats: https://packages.rotaractmediterranean.com/m2r/
URL:https://rotaract-basel.ch/sv/agenda/show/160886
DTSTART;TZID=Europe/Zurich:20230831T000000
DTEND;TZID=Europe/Zurich:20230903T235500
LOCATION:El Gouna
CATEGORIES:Rotaract
END:VEVENT
BEGIN:VTIMEZONE
TZID:Europe/Zurich
BEGIN:DAYLIGHT
DTSTART:20230831T000000
TZNAME:CEST
TZOFFSETTO:+0200
TZOFFSETFROM:+0200
END:DAYLIGHT
END:VTIMEZONE
END:VCALENDAR
