BEGIN:VCALENDAR
PRODID:-//eluceo/ical//2.0/EN
VERSION:2.0
CALSCALE:GREGORIAN
BEGIN:VEVENT
UID:5ab155c1ba649fe42fa5449e4c5e70d9
DTSTAMP:20260424T002329Z
SUMMARY:RYLA 2023
DESCRIPTION:
URL:https://rotaract-basel.ch/sv/agenda/show/158079
DTSTART;TZID=Europe/Zurich:20230908T170000
DTEND;TZID=Europe/Zurich:20230910T140000
LOCATION:Baden
CATEGORIES:Rotaract
END:VEVENT
BEGIN:VTIMEZONE
TZID:Europe/Zurich
BEGIN:DAYLIGHT
DTSTART:20230908T170000
TZNAME:CEST
TZOFFSETTO:+0200
TZOFFSETFROM:+0200
END:DAYLIGHT
END:VTIMEZONE
END:VCALENDAR
