BEGIN:VCALENDAR
PRODID:-//eluceo/ical//2.0/EN
VERSION:2.0
CALSCALE:GREGORIAN
BEGIN:VEVENT
UID:59b23f1d816742c8ca26cd673a2eb138
DTSTAMP:20260424T124832Z
SUMMARY:Social Event- JUNG SEIN
DESCRIPTION:Details folgen.
URL:https://rotaract-basel.ch/sv/agenda/show/121453
DTSTART;TZID=Europe/Zurich:20180526T000000
DTEND;TZID=Europe/Zurich:20180526T000000
LOCATION:Basel
CATEGORIES:Rotaract
END:VEVENT
BEGIN:VTIMEZONE
TZID:Europe/Zurich
BEGIN:DAYLIGHT
DTSTART:20180526T000000
TZNAME:CEST
TZOFFSETTO:+0200
TZOFFSETFROM:+0200
END:DAYLIGHT
END:VTIMEZONE
END:VCALENDAR
