BEGIN:VCALENDAR
PRODID:-//eluceo/ical//2.0/EN
VERSION:2.0
CALSCALE:GREGORIAN
BEGIN:VEVENT
UID:94be536493750e681d2548ffc7f904d7
DTSTAMP:20260420T192815Z
SUMMARY:Social-Event "Weihnachten im Schuhkarton"  Pack-Aktion
DESCRIPTION:https://www.geschenke-der-hoffnung.org/projekte/weihnachten-im-
 schuhkarton/\n\n \n\nWir werden individuell an der Packaktion mithelfen!
  Wenn ihr mit uns dabei sein wollt\, dann zögert nicht\, uns zu kontrak
 tieren. \nWebbplats: https://www.geschenke-der-hoffnung.org/mitmachen/wei
 hnachten-im-schuhkarton/ehrenamtlich-mitarbeiten/
URL:https://rotaract-basel.ch/sv/agenda/show/121298
DTSTART;TZID=Europe/Zurich:20171115T000000
DTEND;TZID=Europe/Zurich:20171117T000000
LOCATION:-
CATEGORIES:Rotaract
END:VEVENT
BEGIN:VTIMEZONE
TZID:Europe/Zurich
BEGIN:STANDARD
DTSTART:20171115T000000
TZNAME:CET
TZOFFSETTO:+0100
TZOFFSETFROM:+0100
END:STANDARD
END:VTIMEZONE
END:VCALENDAR
