BEGIN:VCALENDAR
PRODID:-//eluceo/ical//2.0/EN
VERSION:2.0
CALSCALE:GREGORIAN
BEGIN:VEVENT
UID:a172d7e209f964c49a1a310f50c319d2
DTSTAMP:20260420T155959Z
SUMMARY:Fun-Event Oktober - RAC Basel goes Bowling
DESCRIPTION:An diesem Fun-Event werden wir einen gemütlichen Abend beim Bo
 wling verbringen. Es besteht die Möglichkeit vor Ort\, Essen und Geträn
 ke zu bestellen. Wir freuen uns auf einen lustigen Abend!\n\n\n   "Egal mi
 t wem du kegeln gehst\, wir gehen mit Dieter Bohlen" :)\n\n 
URL:https://rotaract-basel.ch/sv/agenda/show/121296
DTSTART;TZID=Europe/Zurich:20171024T190000
DTEND;TZID=Europe/Zurich:20171024T190000
LOCATION:Basel\, Dreispitz (Leimgrubenweg 9)
CATEGORIES:Rotaract
END:VEVENT
BEGIN:VTIMEZONE
TZID:Europe/Zurich
BEGIN:DAYLIGHT
DTSTART:20171024T190000
TZNAME:CEST
TZOFFSETTO:+0200
TZOFFSETFROM:+0200
END:DAYLIGHT
END:VTIMEZONE
END:VCALENDAR
