BEGIN:VCALENDAR
PRODID:-//eluceo/ical//2.0/EN
VERSION:2.0
CALSCALE:GREGORIAN
BEGIN:VEVENT
UID:0cc5303b4744a0d215e5c7bae16eae53
DTSTAMP:20260420T173844Z
SUMMARY:Regelmeeting Oktober + RAC Basel meets Weihnachten im Schuhkarton
DESCRIPTION:Genaue Infos & Traktanden folgen vor dem Regelmeeting!
URL:https://rotaract-basel.ch/sv/agenda/show/121295
DTSTART;TZID=Europe/Zurich:20171010T193000
DTEND;TZID=Europe/Zurich:20171010T193000
LOCATION:Hotel Merian (Raum: &quot\;Wilde Maa&quot\;)
CATEGORIES:Rotaract
END:VEVENT
BEGIN:VTIMEZONE
TZID:Europe/Zurich
BEGIN:DAYLIGHT
DTSTART:20171010T193000
TZNAME:CEST
TZOFFSETTO:+0200
TZOFFSETFROM:+0200
END:DAYLIGHT
END:VTIMEZONE
END:VCALENDAR
