BEGIN:VCALENDAR
PRODID:-//eluceo/ical//2.0/EN
VERSION:2.0
CALSCALE:GREGORIAN
BEGIN:VEVENT
UID:22166286e7631a5ab080c5fffe55e97e
DTSTAMP:20260422T142948Z
SUMMARY:Service Club Treffen Liestal
DESCRIPTION:Website: https://www.siebe-dupf.ch/
URL:https://rotaract-basel.ch/nl/agenda/show/210608
DTSTART;TZID=Europe/Zurich:20260903T180000
DTEND;TZID=Europe/Zurich:20260903T200000
LOCATION:Siebe Dupf Kellerei AG Kasernenstrasse 25 4410 Liestal
CATEGORIES:Rotaract
END:VEVENT
BEGIN:VTIMEZONE
TZID:Europe/Zurich
BEGIN:DAYLIGHT
DTSTART:20260903T180000
TZNAME:CEST
TZOFFSETTO:+0200
TZOFFSETFROM:+0200
END:DAYLIGHT
END:VTIMEZONE
END:VCALENDAR
