BEGIN:VCALENDAR
PRODID:-//eluceo/ical//2.0/EN
VERSION:2.0
CALSCALE:GREGORIAN
BEGIN:VEVENT
UID:547ef26c2b44d4dfa1bfb381b4a8fc38
DTSTAMP:20260422T172934Z
SUMMARY:Shrimp und Bier Tour mit RAC Solothurn
DESCRIPTION:Website: https://solothurn.rotaract.ch/de/agenda/show/172746?ce
 =1
URL:https://rotaract-basel.ch/nl/agenda/show/177211
DTSTART;TZID=Europe/Zurich:20240525T100000
DTEND;TZID=Europe/Zurich:20240525T170000
LOCATION:Feldschlösschen\, Rheinfelden AG
CATEGORIES:Rotaract
END:VEVENT
BEGIN:VTIMEZONE
TZID:Europe/Zurich
BEGIN:DAYLIGHT
DTSTART:20240525T100000
TZNAME:CEST
TZOFFSETTO:+0200
TZOFFSETFROM:+0200
END:DAYLIGHT
END:VTIMEZONE
END:VCALENDAR
