BEGIN:VCALENDAR
PRODID:-//eluceo/ical//2.0/EN
VERSION:2.0
CALSCALE:GREGORIAN
BEGIN:VEVENT
UID:ba69461bd92a68d8c0465fee6a26ce2f
DTSTAMP:20260422T173132Z
SUMMARY:Hands on im Engadin mit Rotary Dreiländereck
DESCRIPTION:Website: https://rc-dreilaendereck.ch/de/agenda/show/174785
URL:https://rotaract-basel.ch/nl/agenda/show/176663
DTSTART;TZID=Europe/Zurich:20240524T120000
DTEND;TZID=Europe/Zurich:20240526T160000
LOCATION:S-chanf
CATEGORIES:Rotaract
END:VEVENT
BEGIN:VTIMEZONE
TZID:Europe/Zurich
BEGIN:DAYLIGHT
DTSTART:20240524T120000
TZNAME:CEST
TZOFFSETTO:+0200
TZOFFSETFROM:+0200
END:DAYLIGHT
END:VTIMEZONE
END:VCALENDAR
