BEGIN:VCALENDAR
PRODID:-//eluceo/ical//2.0/EN
VERSION:2.0
CALSCALE:GREGORIAN
BEGIN:VEVENT
UID:fd32481f69040463e00bb567a5f39259
DTSTAMP:20260422T211155Z
SUMMARY:Mini GV
DESCRIPTION:
URL:https://rotaract-basel.ch/nl/agenda/show/164716
DTSTART;TZID=Europe/Zurich:20231209T170000
DTEND;TZID=Europe/Zurich:20231209T200000
LOCATION:Falknerstrasse 33 Basel
CATEGORIES:Rotaract
END:VEVENT
BEGIN:VTIMEZONE
TZID:Europe/Zurich
BEGIN:STANDARD
DTSTART:20231209T170000
TZNAME:CET
TZOFFSETTO:+0100
TZOFFSETFROM:+0100
END:STANDARD
END:VTIMEZONE
END:VCALENDAR
