BEGIN:VCALENDAR
PRODID:-//eluceo/ical//2.0/EN
VERSION:2.0
CALSCALE:GREGORIAN
BEGIN:VEVENT
UID:1c7aae5e573350b01ff07b9024d8471b
DTSTAMP:20260422T211638Z
SUMMARY:Gemeinsames Training mit der Judo Schule Nippon Basel
DESCRIPTION:Website: https://www.nipponbasel.ch/
URL:https://rotaract-basel.ch/nl/agenda/show/150094
DTSTART;TZID=Europe/Zurich:20221020T190000
DTEND;TZID=Europe/Zurich:20221020T200000
LOCATION:Nippon Schule Basel
CATEGORIES:Rotaract
END:VEVENT
BEGIN:VTIMEZONE
TZID:Europe/Zurich
BEGIN:DAYLIGHT
DTSTART:20221020T190000
TZNAME:CEST
TZOFFSETTO:+0200
TZOFFSETFROM:+0200
END:DAYLIGHT
END:VTIMEZONE
END:VCALENDAR
