BEGIN:VCALENDAR
PRODID:-//eluceo/ical//2.0/EN
VERSION:2.0
CALSCALE:GREGORIAN
BEGIN:VEVENT
UID:19babd9fed32c3ec6a4c868c2fed9480
DTSTAMP:20260422T211324Z
SUMMARY:Regelmeeting
DESCRIPTION:
URL:https://rotaract-basel.ch/nl/agenda/show/145068
DTSTART;TZID=Europe/Zurich:20220913T193000
DTEND;TZID=Europe/Zurich:20220913T203000
LOCATION:Heubergkeller
CATEGORIES:Rotaract
END:VEVENT
BEGIN:VTIMEZONE
TZID:Europe/Zurich
BEGIN:DAYLIGHT
DTSTART:20220913T193000
TZNAME:CEST
TZOFFSETTO:+0200
TZOFFSETFROM:+0200
END:DAYLIGHT
END:VTIMEZONE
END:VCALENDAR
