BEGIN:VCALENDAR
PRODID:-//eluceo/ical//2.0/EN
VERSION:2.0
CALSCALE:GREGORIAN
BEGIN:VEVENT
UID:5f934f15bc63590b7ce6c8823dbb5f35
DTSTAMP:20260425T175548Z
SUMMARY:BBT (Basler Bar Tour/Inoffizielles Meeting RAC Basel)
DESCRIPTION:
URL:https://rotaract-basel.ch/it/agenda/show/172700
DTSTART;TZID=Europe/Zurich:20240326T200000
DTEND;TZID=Europe/Zurich:20240326T220000
LOCATION:tbd
CATEGORIES:Rotaract
END:VEVENT
BEGIN:VTIMEZONE
TZID:Europe/Zurich
BEGIN:STANDARD
DTSTART:20240326T200000
TZNAME:CET
TZOFFSETTO:+0100
TZOFFSETFROM:+0100
END:STANDARD
END:VTIMEZONE
END:VCALENDAR
