BEGIN:VCALENDAR
PRODID:-//eluceo/ical//2.0/EN
VERSION:2.0
CALSCALE:GREGORIAN
BEGIN:VEVENT
UID:40218c3d97b81b1b7e252f9cd46ebc2e
DTSTAMP:20260425T143054Z
SUMMARY:REM Stockholm
DESCRIPTION:Sito web: https://www.facebook.com/rem.stockholm/
URL:https://rotaract-basel.ch/it/agenda/show/160887
DTSTART;TZID=Europe/Zurich:20231005T000000
DTEND;TZID=Europe/Zurich:20231008T230000
LOCATION:Stockholm - Schweden
CATEGORIES:Rotaract
END:VEVENT
BEGIN:VTIMEZONE
TZID:Europe/Zurich
BEGIN:DAYLIGHT
DTSTART:20231005T000000
TZNAME:CEST
TZOFFSETTO:+0200
TZOFFSETFROM:+0200
END:DAYLIGHT
END:VTIMEZONE
END:VCALENDAR
