BEGIN:VCALENDAR
PRODID:-//eluceo/ical//2.0/EN
VERSION:2.0
CALSCALE:GREGORIAN
BEGIN:VEVENT
UID:728f1537ea0198f577359d101fd15c67
DTSTAMP:20260422T051552Z
SUMMARY:Rennen für mine-ex am Basler Stadtlauf
DESCRIPTION:Rennen\, damit andere wieder laufen können - mine-ex: Rotari
 er und Rotaracter helfen Minenopfern\n\nSo funktioniert’s:\n\nFür Läu
 fer + Läuferinnen\nSchritt 1\nRegistrierung für den Basler Stadtlauf bei
  Datasport mit folgendem Link\nSchritt 2\nAnmeldung für das Sponsorenpro
 jekt mine-ex an die Projektleitung per E-Mail \nMit Name\, Adresse\, Tel
 efon-Nummer\, E-Mail-Adresse\, Rotary Club und Läuferkategorie\nSchritt 3
 \nErfassung der Sponsoren auf dem danach erhaltenen Sponsoren-Erfassungsbl
 att\nSchritt 4\nTeilnahme am 24. November 2018 am Basler Stadtlauf\n\nFür
  Sponsoren\nZusage einer pauschalen Spende an einen Läufer /eine Läufer
 in\noder\nÜberweisung einer Spende auf das Konto bei der Basellandschaftl
 ichen Kantonalbank Liestal zu Gunsten Rotary Club Muttenz Wartenberg\, 41
 32 Muttenz\, Rotary für mine-ex\, IBAN CH65 0076 9039 7193 0200 2. Die S
 penden werden verdankt und können so in der Steuererklärung vom Einkomme
 n abgezogen werden.\n\nmine-ex will Opfern von Personenminen und Blindgä
 ngern in Kambocsch und Afghanistan wieder zu einem möglichst menschenwür
 digen und selbständigen Leben verhelfen. In Zusammenarbeit mit dem IKRK 
 werden in Kambodscha Prothesenmacher ausgebildet\, eine Fabrik für Prothe
 sen-Komponenten unterhalten und nach neuen\, einfachen Mitteln für die Er
 leichterung des Alltages gesucht. In Afghanistan betreibt das IKRK sieben 
 orthopädische Versorgungszentren. Für die Zusammenarbeit mit dem IKRK st
 ellt Rotary neben aktiver und ehrenamtlicher Mitarbeit jährlich rund CHF 
 800'000 zur Verfügung. Um die erfolgreiche\, langjährige Zusammenarbeit
  mit dem IKRK im bisherigen Rahmen fortzusetzen ist mine-ex auf Sponsoring
 -Events angewiesen\, welche in etwa jährlich CHF 500'000 einbringen.\n\nW
 eitere Informationen auf www.mine-ex.ch.
URL:https://rotaract-basel.ch/it/agenda/show/121558
DTSTART;TZID=Europe/Zurich:20181124T170000
DTEND;TZID=Europe/Zurich:20181124T170000
LOCATION:Basel
CATEGORIES:Rotaract
END:VEVENT
BEGIN:VTIMEZONE
TZID:Europe/Zurich
BEGIN:STANDARD
DTSTART:20181124T170000
TZNAME:CET
TZOFFSETTO:+0100
TZOFFSETFROM:+0100
END:STANDARD
END:VTIMEZONE
END:VCALENDAR
