BEGIN:VCALENDAR
PRODID:-//eluceo/ical//2.0/EN
VERSION:2.0
CALSCALE:GREGORIAN
BEGIN:VEVENT
UID:041efb361106ab1d854a3b38a1ab7f8d
DTSTAMP:20260421T204327Z
SUMMARY:Regelmeeting Mai
DESCRIPTION:Genaue Infos & Traktanden folgen vor dem Regelmeeting!
URL:https://rotaract-basel.ch/it/agenda/show/121452
DTSTART;TZID=Europe/Zurich:20180508T000000
DTEND;TZID=Europe/Zurich:20180508T000000
LOCATION:Hotel Merian
CATEGORIES:Rotaract
END:VEVENT
BEGIN:VTIMEZONE
TZID:Europe/Zurich
BEGIN:DAYLIGHT
DTSTART:20180508T000000
TZNAME:CEST
TZOFFSETTO:+0200
TZOFFSETFROM:+0200
END:DAYLIGHT
END:VTIMEZONE
END:VCALENDAR
