BEGIN:VCALENDAR
PRODID:-//eluceo/ical//2.0/EN
VERSION:2.0
CALSCALE:GREGORIAN
BEGIN:VEVENT
UID:93c0fb6f7a211d7da982bf65dff352a6
DTSTAMP:20260421T171059Z
SUMMARY:Fun-Event August - RAC Basel goes Badenfahrt
DESCRIPTION:Sito web: http://robinfood.rotaract-baden.ch/\nRelatore/i: Abfa
 hrt Basel SBB ca. 18:10
URL:https://rotaract-basel.ch/it/agenda/show/121283
DTSTART;TZID=Europe/Zurich:20170825T180000
DTEND;TZID=Europe/Zurich:20170825T180000
LOCATION:Treffpunkt Basel SBB (Schalterhalle)
CATEGORIES:Rotaract
END:VEVENT
BEGIN:VTIMEZONE
TZID:Europe/Zurich
BEGIN:DAYLIGHT
DTSTART:20170825T180000
TZNAME:CEST
TZOFFSETTO:+0200
TZOFFSETFROM:+0200
END:DAYLIGHT
END:VTIMEZONE
END:VCALENDAR
