BEGIN:VCALENDAR
PRODID:-//eluceo/ical//2.0/EN
VERSION:2.0
CALSCALE:GREGORIAN
BEGIN:VEVENT
UID:bef0a87546cfb69f499e819ab5f9644d
DTSTAMP:20260421T151635Z
SUMMARY:Swiss Roundtrip - Tag in Basel 25.07.2015
DESCRIPTION:Relatore/i: Dieses Jahr findet wiederum ein Swiss Roundtrip mit
  Personen aus aller Welt statt. Der Trip findet vom 18. Bis 26. Juli 2015 
 statt. Am Samstag\, 25. Juli 2015 ist die Reisegruppe in Basel. Laura Frö
 hli
URL:https://rotaract-basel.ch/it/agenda/show/120553
DTSTART;TZID=Europe/Zurich:20150725T000000
DTEND;TZID=Europe/Zurich:20150725T000000
LOCATION:Basel
CATEGORIES:Rotaract
END:VEVENT
BEGIN:VTIMEZONE
TZID:Europe/Zurich
BEGIN:DAYLIGHT
DTSTART:20150725T000000
TZNAME:CEST
TZOFFSETTO:+0200
TZOFFSETFROM:+0200
END:DAYLIGHT
END:VTIMEZONE
END:VCALENDAR
