BEGIN:VCALENDAR
PRODID:-//eluceo/ical//2.0/EN
VERSION:2.0
CALSCALE:GREGORIAN
BEGIN:VEVENT
UID:b69f567c76be0bd369d82cf0ef52d646
DTSTAMP:20260421T144223Z
SUMMARY:Welt Polio Tag in Liestal
DESCRIPTION:
URL:https://rotaract-basel.ch/is/agenda/show/210609
DTSTART;TZID=Europe/Zurich:20261024T140000
DTEND;TZID=Europe/Zurich:20261024T180000
LOCATION:Liestal
CATEGORIES:Rotaract
END:VEVENT
BEGIN:VTIMEZONE
TZID:Europe/Zurich
BEGIN:DAYLIGHT
DTSTART:20261024T140000
TZNAME:CEST
TZOFFSETTO:+0200
TZOFFSETFROM:+0200
END:DAYLIGHT
END:VTIMEZONE
END:VCALENDAR
