BEGIN:VCALENDAR
PRODID:-//eluceo/ical//2.0/EN
VERSION:2.0
CALSCALE:GREGORIAN
BEGIN:VEVENT
UID:305eada440a717a90a6c2156d96b7f69
DTSTAMP:20260421T164830Z
SUMMARY:Regelmeeting Februar
DESCRIPTION:Vefsíða: https://www.heubergkeller.ch/
URL:https://rotaract-basel.ch/is/agenda/show/206290
DTSTART;TZID=Europe/Zurich:20260210T193000
DTEND;TZID=Europe/Zurich:20260210T203000
LOCATION:Heubergkeller\, Heuberg 26\, 4051 Basel\, Schweiz
CATEGORIES:Rotaract
END:VEVENT
BEGIN:VTIMEZONE
TZID:Europe/Zurich
BEGIN:STANDARD
DTSTART:20260210T193000
TZNAME:CET
TZOFFSETTO:+0100
TZOFFSETFROM:+0100
END:STANDARD
END:VTIMEZONE
END:VCALENDAR
