BEGIN:VCALENDAR
PRODID:-//eluceo/ical//2.0/EN
VERSION:2.0
CALSCALE:GREGORIAN
BEGIN:VEVENT
UID:2630263a0428d9705cdeb83ee2c179eb
DTSTAMP:20260425T105350Z
SUMMARY:Apero für Interessenten
DESCRIPTION:
URL:https://rotaract-basel.ch/is/agenda/show/204588
DTSTART;TZID=Europe/Zurich:20251120T183000
DTEND;TZID=Europe/Zurich:20251120T210000
LOCATION:GundeliDräff\,  Solothurnerstrasse 39\,  4053 Basel
CATEGORIES:Rotaract
END:VEVENT
BEGIN:VTIMEZONE
TZID:Europe/Zurich
BEGIN:STANDARD
DTSTART:20251120T183000
TZNAME:CET
TZOFFSETTO:+0100
TZOFFSETFROM:+0100
END:STANDARD
END:VTIMEZONE
END:VCALENDAR
