BEGIN:VCALENDAR
PRODID:-//eluceo/ical//2.0/EN
VERSION:2.0
CALSCALE:GREGORIAN
BEGIN:VEVENT
UID:0c1607f2c492dd63db02c6668f5961cf
DTSTAMP:20260421T235103Z
SUMMARY:Regelmeeting
DESCRIPTION:Vefsíða: https://www.heubergkeller.ch/
URL:https://rotaract-basel.ch/is/agenda/show/170370
DTSTART;TZID=Europe/Zurich:20240312T190000
DTEND;TZID=Europe/Zurich:20240312T210000
LOCATION:Heuberg Keller\, Heuberg 26\, 4051 Basel\, Schweiz
CATEGORIES:Rotaract
END:VEVENT
BEGIN:VTIMEZONE
TZID:Europe/Zurich
BEGIN:STANDARD
DTSTART:20240312T190000
TZNAME:CET
TZOFFSETTO:+0100
TZOFFSETFROM:+0100
END:STANDARD
END:VTIMEZONE
END:VCALENDAR
