BEGIN:VCALENDAR
PRODID:-//eluceo/ical//2.0/EN
VERSION:2.0
CALSCALE:GREGORIAN
BEGIN:VEVENT
UID:3d661265de6efddb112ad2a033f7175d
DTSTAMP:20260422T000448Z
SUMMARY:Zollibesuch mit den Bewohnern des Holbeinhofs
DESCRIPTION:
URL:https://rotaract-basel.ch/is/agenda/show/165539
DTSTART;TZID=Europe/Zurich:20231022T140000
DTEND;TZID=Europe/Zurich:20231022T180000
LOCATION:Holbeinhof
CATEGORIES:Rotaract
END:VEVENT
BEGIN:VTIMEZONE
TZID:Europe/Zurich
BEGIN:DAYLIGHT
DTSTART:20231022T140000
TZNAME:CEST
TZOFFSETTO:+0200
TZOFFSETFROM:+0200
END:DAYLIGHT
END:VTIMEZONE
END:VCALENDAR
