BEGIN:VCALENDAR
PRODID:-//eluceo/ical//2.0/EN
VERSION:2.0
CALSCALE:GREGORIAN
BEGIN:VEVENT
UID:69de46225e6737f47961f7a1c3ce8e7b
DTSTAMP:20260422T033210Z
SUMMARY:Regelmeeting
DESCRIPTION:Vefsíða: https://www.heubergkeller.ch/
URL:https://rotaract-basel.ch/is/agenda/show/163091
DTSTART;TZID=Europe/Zurich:20231114T193000
DTEND;TZID=Europe/Zurich:20231114T203000
LOCATION:Heuberg Keller\, Heuberg 26\, 4051 Basel\, Schweiz
CATEGORIES:Rotaract
END:VEVENT
BEGIN:VTIMEZONE
TZID:Europe/Zurich
BEGIN:STANDARD
DTSTART:20231114T193000
TZNAME:CET
TZOFFSETTO:+0100
TZOFFSETFROM:+0100
END:STANDARD
END:VTIMEZONE
END:VCALENDAR
