BEGIN:VCALENDAR
PRODID:-//eluceo/ical//2.0/EN
VERSION:2.0
CALSCALE:GREGORIAN
BEGIN:VEVENT
UID:1b4373fe0554fed7c538b6292fc6d6b5
DTSTAMP:20260420T023813Z
SUMMARY:PM/IDK 2023 Fribourg
DESCRIPTION:
URL:https://rotaract-basel.ch/is/agenda/show/156857
DTSTART;TZID=Europe/Zurich:20230506T080000
DTEND;TZID=Europe/Zurich:20230506T230000
LOCATION:Villars-sur-Glâne
CATEGORIES:Rotaract
END:VEVENT
BEGIN:VTIMEZONE
TZID:Europe/Zurich
BEGIN:DAYLIGHT
DTSTART:20230506T080000
TZNAME:CEST
TZOFFSETTO:+0200
TZOFFSETFROM:+0200
END:DAYLIGHT
END:VTIMEZONE
END:VCALENDAR
