BEGIN:VCALENDAR
PRODID:-//eluceo/ical//2.0/EN
VERSION:2.0
CALSCALE:GREGORIAN
BEGIN:VEVENT
UID:a3f3114f54fa80e1b4d83966e1412839
DTSTAMP:20260420T010828Z
SUMMARY:Führung im Roche Turm
DESCRIPTION:
URL:https://rotaract-basel.ch/is/agenda/show/156569
DTSTART;TZID=Europe/Zurich:20230701T143000
DTEND;TZID=Europe/Zurich:20230701T180000
LOCATION:Rochebau 2
CATEGORIES:Rotaract
END:VEVENT
BEGIN:VTIMEZONE
TZID:Europe/Zurich
BEGIN:DAYLIGHT
DTSTART:20230701T143000
TZNAME:CEST
TZOFFSETTO:+0200
TZOFFSETFROM:+0200
END:DAYLIGHT
END:VTIMEZONE
END:VCALENDAR
