BEGIN:VCALENDAR
PRODID:-//eluceo/ical//2.0/EN
VERSION:2.0
CALSCALE:GREGORIAN
BEGIN:VEVENT
UID:11859e6ae1bff46ca07079e82a5268ee
DTSTAMP:20260422T030343Z
SUMMARY:11 Jahre Rotaract Solothurn
DESCRIPTION:Vefsíða: https://attisholz-areal.ch/
URL:https://rotaract-basel.ch/is/agenda/show/151090
DTSTART;TZID=Europe/Zurich:20221112T160000
DTEND;TZID=Europe/Zurich:20221113T020000
LOCATION:ehemalige Cellulose Fabrik Attisholz
CATEGORIES:Rotaract
END:VEVENT
BEGIN:VTIMEZONE
TZID:Europe/Zurich
BEGIN:STANDARD
DTSTART:20221112T160000
TZNAME:CET
TZOFFSETTO:+0100
TZOFFSETFROM:+0100
END:STANDARD
END:VTIMEZONE
END:VCALENDAR
