BEGIN:VCALENDAR
PRODID:-//eluceo/ical//2.0/EN
VERSION:2.0
CALSCALE:GREGORIAN
BEGIN:VEVENT
UID:24a2dca1a0927094cadb8062ddd8de12
DTSTAMP:20260420T064322Z
SUMMARY:Institute Basel 2022
DESCRIPTION:
URL:https://rotaract-basel.ch/is/agenda/show/150609
DTSTART;TZID=Europe/Zurich:20221102T000000
DTEND;TZID=Europe/Zurich:20221106T235500
LOCATION:Mövenpick Hotel Basel
CATEGORIES:Rotaract
END:VEVENT
BEGIN:VTIMEZONE
TZID:Europe/Zurich
BEGIN:STANDARD
DTSTART:20221102T000000
TZNAME:CET
TZOFFSETTO:+0100
TZOFFSETFROM:+0100
END:STANDARD
END:VTIMEZONE
END:VCALENDAR
