BEGIN:VCALENDAR
PRODID:-//eluceo/ical//2.0/EN
VERSION:2.0
CALSCALE:GREGORIAN
BEGIN:VEVENT
UID:c4854b6184da8a797aa053b93580b832
DTSTAMP:20260423T145436Z
SUMMARY:Stadtführung durch Basel mit dem Zürcher Rotaract Club
DESCRIPTION:Fyrirlesari(ar): Wir treffen uns um 14:00 Uhr vor dem Starbucks
  am Bahnhof SBB und machen mit dem Rotaract Club Zürich eine Stadtführun
 g und gehen etwas trinken.
URL:https://rotaract-basel.ch/is/agenda/show/132360
DTSTART;TZID=Europe/Zurich:20211009T140000
DTEND;TZID=Europe/Zurich:20211009T160000
LOCATION:Starbucks Basel SBB
CATEGORIES:Rotaract
END:VEVENT
BEGIN:VTIMEZONE
TZID:Europe/Zurich
BEGIN:DAYLIGHT
DTSTART:20211009T140000
TZNAME:CEST
TZOFFSETTO:+0200
TZOFFSETFROM:+0200
END:DAYLIGHT
END:VTIMEZONE
END:VCALENDAR
