BEGIN:VCALENDAR
PRODID:-//eluceo/ical//2.0/EN
VERSION:2.0
CALSCALE:GREGORIAN
BEGIN:VEVENT
UID:3f22b80df485a68f230449a9b1d6a7df
DTSTAMP:20260421T212849Z
SUMMARY:ALTERNATIVE: Childrens Day with Rotary Dreiländereck
DESCRIPTION:Vefsíða: https://basel.rotaract.ch/de/file/609946f786a20/down
 load
URL:https://rotaract-basel.ch/is/agenda/show/122760
DTSTART;TZID=Europe/Zurich:20210510T162400
DTEND;TZID=Europe/Zurich:20210630T161500
LOCATION:Jeder wie er möchte
CATEGORIES:Rotaract
END:VEVENT
BEGIN:VTIMEZONE
TZID:Europe/Zurich
BEGIN:DAYLIGHT
DTSTART:20210510T162400
TZNAME:CEST
TZOFFSETTO:+0200
TZOFFSETFROM:+0200
END:DAYLIGHT
END:VTIMEZONE
END:VCALENDAR
