BEGIN:VCALENDAR
PRODID:-//eluceo/ical//2.0/EN
VERSION:2.0
CALSCALE:GREGORIAN
BEGIN:VEVENT
UID:1113323dfe8731a2cc00249682eee6dc
DTSTAMP:20260421T174957Z
SUMMARY:Besuch Flüchtlingsprojekt Elisabethenkirche
DESCRIPTION:Fyrirlesari(ar): Besuch des wöchentlichen Flüchtlingsprojekt 
 in der Elisabethenkirche. Was uns genau vor Ort erwartet und wo wir ggf. h
 elfen können sehen wir dann resp. wird noch abgeklärt.
URL:https://rotaract-basel.ch/is/agenda/show/120873
DTSTART;TZID=Europe/Zurich:20160413T173000
DTEND;TZID=Europe/Zurich:20160413T200000
LOCATION:Elisabethenkirche\,  Basel
CATEGORIES:Rotaract
END:VEVENT
BEGIN:VTIMEZONE
TZID:Europe/Zurich
BEGIN:DAYLIGHT
DTSTART:20160413T173000
TZNAME:CEST
TZOFFSETTO:+0200
TZOFFSETFROM:+0200
END:DAYLIGHT
END:VTIMEZONE
END:VCALENDAR
