BEGIN:VCALENDAR
PRODID:-//eluceo/ical//2.0/EN
VERSION:2.0
CALSCALE:GREGORIAN
BEGIN:VEVENT
UID:725daec892ca55fdb8c17ab7be82bd7d
DTSTAMP:20260421T123122Z
SUMMARY:Besuch Bürgerliches Waisenhaus Basel
DESCRIPTION:Fyrirlesari(ar): mit ÖV: Haltestelle Wettsteinplatz
URL:https://rotaract-basel.ch/is/agenda/show/120769
DTSTART;TZID=Europe/Zurich:20160322T190000
DTEND;TZID=Europe/Zurich:20160322T203000
LOCATION:Theodorskirchpl. 7\, 4058 Basel
CATEGORIES:Rotaract
END:VEVENT
BEGIN:VTIMEZONE
TZID:Europe/Zurich
BEGIN:STANDARD
DTSTART:20160322T190000
TZNAME:CET
TZOFFSETTO:+0100
TZOFFSETFROM:+0100
END:STANDARD
END:VTIMEZONE
END:VCALENDAR
