BEGIN:VCALENDAR
PRODID:-//eluceo/ical//2.0/EN
VERSION:2.0
CALSCALE:GREGORIAN
BEGIN:VEVENT
UID:a70549abb3c4d05b5ddfd1e982c5e817
DTSTAMP:20260421T155534Z
SUMMARY:Regelmeeting April 2016
DESCRIPTION:Vefsíða: http://19:30
URL:https://rotaract-basel.ch/is/agenda/show/120657
DTSTART;TZID=Europe/Zurich:20160412T000000
DTEND;TZID=Europe/Zurich:20160412T000000
LOCATION:Hotel Merian Basel\, Rheingasse 2\, 4058 Basel
CATEGORIES:Rotaract
END:VEVENT
BEGIN:VTIMEZONE
TZID:Europe/Zurich
BEGIN:DAYLIGHT
DTSTART:20160412T000000
TZNAME:CEST
TZOFFSETTO:+0200
TZOFFSETFROM:+0200
END:DAYLIGHT
END:VTIMEZONE
END:VCALENDAR
