BEGIN:VCALENDAR
PRODID:-//eluceo/ical//2.0/EN
VERSION:2.0
CALSCALE:GREGORIAN
BEGIN:VEVENT
UID:fd5e28010b738f7495393aa38ed7eb48
DTSTAMP:20260420T131924Z
SUMMARY:Regelmeeting
DESCRIPTION:Site internet: https://www.heubergkeller.ch/
URL:https://rotaract-basel.ch/fr/agenda/show/163090
DTSTART;TZID=Europe/Zurich:20231010T193000
DTEND;TZID=Europe/Zurich:20231010T203000
LOCATION:Heuberg Keller\, Heuberg 26\, 4051 Basel\, Schweiz
CATEGORIES:Rotaract
END:VEVENT
BEGIN:VTIMEZONE
TZID:Europe/Zurich
BEGIN:DAYLIGHT
DTSTART:20231010T193000
TZNAME:CEST
TZOFFSETTO:+0200
TZOFFSETFROM:+0200
END:DAYLIGHT
END:VTIMEZONE
END:VCALENDAR
