BEGIN:VCALENDAR
PRODID:-//eluceo/ical//2.0/EN
VERSION:2.0
CALSCALE:GREGORIAN
BEGIN:VEVENT
UID:64773ef198d7205f38c041689cb1d8ac
DTSTAMP:20260420T125924Z
SUMMARY:Tour im Primeo Energie Center
DESCRIPTION:
URL:https://rotaract-basel.ch/fr/agenda/show/152964
DTSTART;TZID=Europe/Zurich:20230117T180000
DTEND;TZID=Europe/Zurich:20230117T200000
LOCATION:Lernwelt Energie\, Weidenstrasse 27\, 4142 Münchenstein
CATEGORIES:Rotaract
END:VEVENT
BEGIN:VTIMEZONE
TZID:Europe/Zurich
BEGIN:STANDARD
DTSTART:20230117T180000
TZNAME:CET
TZOFFSETTO:+0100
TZOFFSETFROM:+0100
END:STANDARD
END:VTIMEZONE
END:VCALENDAR
