BEGIN:VCALENDAR
PRODID:-//eluceo/ical//2.0/EN
VERSION:2.0
CALSCALE:GREGORIAN
BEGIN:VEVENT
UID:fc9ca9740c3827422caacabab1fa5f66
DTSTAMP:20260420T125403Z
SUMMARY:Hands-On-Anlass 'Naturschutzprojekt Landskronberg 'natur3' mit dem 
 Rotary Dreiländereck
DESCRIPTION:Site internet: http://natur3.ch
URL:https://rotaract-basel.ch/fr/agenda/show/151551
DTSTART;TZID=Europe/Zurich:20221126T090000
DTEND;TZID=Europe/Zurich:20221126T130000
LOCATION:Landskronberg
CATEGORIES:Rotaract
END:VEVENT
BEGIN:VTIMEZONE
TZID:Europe/Zurich
BEGIN:STANDARD
DTSTART:20221126T090000
TZNAME:CET
TZOFFSETTO:+0100
TZOFFSETFROM:+0100
END:STANDARD
END:VTIMEZONE
END:VCALENDAR
