BEGIN:VCALENDAR
PRODID:-//eluceo/ical//2.0/EN
VERSION:2.0
CALSCALE:GREGORIAN
BEGIN:VEVENT
UID:bfabda6cb28dec70e2e07c405ef606de
DTSTAMP:20260420T161423Z
SUMMARY:Regelmeeting
DESCRIPTION:
URL:https://rotaract-basel.ch/fr/agenda/show/148005
DTSTART;TZID=Europe/Zurich:20221108T193000
DTEND;TZID=Europe/Zurich:20221108T203000
LOCATION:Heubergkeller
CATEGORIES:Rotaract
END:VEVENT
BEGIN:VTIMEZONE
TZID:Europe/Zurich
BEGIN:STANDARD
DTSTART:20221108T193000
TZNAME:CET
TZOFFSETTO:+0100
TZOFFSETFROM:+0100
END:STANDARD
END:VTIMEZONE
END:VCALENDAR
