BEGIN:VCALENDAR
PRODID:-//eluceo/ical//2.0/EN
VERSION:2.0
CALSCALE:GREGORIAN
BEGIN:VEVENT
UID:ad01516a44ab991b6bf5d82d06427142
DTSTAMP:20260421T215606Z
SUMMARY:Hands-On «Heuen Projekt Landskron»
DESCRIPTION:Site internet: https://rc-dreilaendereck.ch/de/agenda/show/1440
 62
URL:https://rotaract-basel.ch/fr/agenda/show/146102
DTSTART;TZID=Europe/Zurich:20220713T180000
DTEND;TZID=Europe/Zurich:20220713T200000
LOCATION:Landskornenberg
CATEGORIES:Rotaract
END:VEVENT
BEGIN:VTIMEZONE
TZID:Europe/Zurich
BEGIN:DAYLIGHT
DTSTART:20220713T180000
TZNAME:CEST
TZOFFSETTO:+0200
TZOFFSETFROM:+0200
END:DAYLIGHT
END:VTIMEZONE
END:VCALENDAR
