BEGIN:VCALENDAR
PRODID:-//eluceo/ical//2.0/EN
VERSION:2.0
CALSCALE:GREGORIAN
BEGIN:VEVENT
UID:6452793102cce87418efc1ed6c0df2cb
DTSTAMP:20260423T064541Z
SUMMARY:Führung im Paketzentrum Härkingen
DESCRIPTION:Site internet: https://www.post.ch/de/ueber-uns/portraet/besuch
 erfuehrungen/paketzentren
URL:https://rotaract-basel.ch/fr/agenda/show/145773
DTSTART;TZID=Europe/Zurich:20220902T180000
DTEND;TZID=Europe/Zurich:20220902T200000
LOCATION:Paketzentrum Härkingen
CATEGORIES:Rotaract
END:VEVENT
BEGIN:VTIMEZONE
TZID:Europe/Zurich
BEGIN:DAYLIGHT
DTSTART:20220902T180000
TZNAME:CEST
TZOFFSETTO:+0200
TZOFFSETFROM:+0200
END:DAYLIGHT
END:VTIMEZONE
END:VCALENDAR
