BEGIN:VCALENDAR
PRODID:-//eluceo/ical//2.0/EN
VERSION:2.0
CALSCALE:GREGORIAN
BEGIN:VEVENT
UID:97a6165b0e810c7fc156157edd6cfd69
DTSTAMP:20260421T183049Z
SUMMARY:Regelmeeting
DESCRIPTION:
URL:https://rotaract-basel.ch/fr/agenda/show/138019
DTSTART;TZID=Europe/Zurich:20220412T193000
DTEND;TZID=Europe/Zurich:20220412T193000
LOCATION:Heuberg 26
CATEGORIES:Rotaract
END:VEVENT
BEGIN:VTIMEZONE
TZID:Europe/Zurich
BEGIN:DAYLIGHT
DTSTART:20220412T193000
TZNAME:CEST
TZOFFSETTO:+0200
TZOFFSETFROM:+0200
END:DAYLIGHT
END:VTIMEZONE
END:VCALENDAR
