BEGIN:VCALENDAR
PRODID:-//eluceo/ical//2.0/EN
VERSION:2.0
CALSCALE:GREGORIAN
BEGIN:VEVENT
UID:a404e99c109b30120b67bb4c71eb6cb7
DTSTAMP:20260421T165858Z
SUMMARY:Schlittelplausch
DESCRIPTION:
URL:https://rotaract-basel.ch/fr/agenda/show/137247
DTSTART;TZID=Europe/Zurich:20220122T140000
DTEND;TZID=Europe/Zurich:20220122T173000
LOCATION:Wasserfallen
CATEGORIES:Rotaract
END:VEVENT
BEGIN:VTIMEZONE
TZID:Europe/Zurich
BEGIN:STANDARD
DTSTART:20220122T140000
TZNAME:CET
TZOFFSETTO:+0100
TZOFFSETFROM:+0100
END:STANDARD
END:VTIMEZONE
END:VCALENDAR
