BEGIN:VCALENDAR
PRODID:-//eluceo/ical//2.0/EN
VERSION:2.0
CALSCALE:GREGORIAN
BEGIN:VEVENT
UID:2fb180a97c2ed15382eec39873dac20c
DTSTAMP:20260421T154820Z
SUMMARY:Weihnachten im Schuhkarton
DESCRIPTION:
URL:https://rotaract-basel.ch/fr/agenda/show/132571
DTSTART;TZID=Europe/Zurich:20211102T140000
DTEND;TZID=Europe/Zurich:20211112T220000
LOCATION:Mittwochs: Hofackerstrasse 79\, Muttenz alle anderen Tage: Grabena
 ckerstrasse\, Münchenstein (Details bei Anmeldung)
CATEGORIES:Rotaract
END:VEVENT
BEGIN:VTIMEZONE
TZID:Europe/Zurich
BEGIN:STANDARD
DTSTART:20211102T140000
TZNAME:CET
TZOFFSETTO:+0100
TZOFFSETFROM:+0100
END:STANDARD
END:VTIMEZONE
END:VCALENDAR
