BEGIN:VCALENDAR
PRODID:-//eluceo/ical//2.0/EN
VERSION:2.0
CALSCALE:GREGORIAN
BEGIN:VEVENT
UID:33112fe6a38f9233f9485ad9d0d6e7ec
DTSTAMP:20260421T132942Z
SUMMARY:ROTARACT SUMMER KIDS CAMP
DESCRIPTION:Site internet: http://swiss.rotaract-kidscamp.de/
URL:https://rotaract-basel.ch/fr/agenda/show/125389
DTSTART;TZID=Europe/Zurich:20210801T090000
DTEND;TZID=Europe/Zurich:20210806T230000
LOCATION:Ferienheim Schrattenblick Marbach LU
CATEGORIES:Rotaract
END:VEVENT
BEGIN:VTIMEZONE
TZID:Europe/Zurich
BEGIN:DAYLIGHT
DTSTART:20210801T090000
TZNAME:CEST
TZOFFSETTO:+0200
TZOFFSETFROM:+0200
END:DAYLIGHT
END:VTIMEZONE
END:VCALENDAR
