BEGIN:VCALENDAR
PRODID:-//eluceo/ical//2.0/EN
VERSION:2.0
CALSCALE:GREGORIAN
BEGIN:VEVENT
UID:d8344036f3679d7cc10c5cf1c528ece5
DTSTAMP:20260423T084915Z
SUMMARY:ZOLLiTAG FüR ALLi
DESCRIPTION:Site internet: https://zollitag.ch/\nConférencier(s): Am Sa. 2
 1.08.2021 öffnen wir die Türen des Zolli Basel von 8:00 – 17:30 Uhr. G
 ratis für alle\, die es sich nicht leisten können.
URL:https://rotaract-basel.ch/fr/agenda/show/122756
DTSTART;TZID=Europe/Zurich:20210821T080000
DTEND;TZID=Europe/Zurich:20210821T173000
LOCATION:Zoo Basel
CATEGORIES:Rotaract
END:VEVENT
BEGIN:VTIMEZONE
TZID:Europe/Zurich
BEGIN:DAYLIGHT
DTSTART:20210821T080000
TZNAME:CEST
TZOFFSETTO:+0200
TZOFFSETFROM:+0200
END:DAYLIGHT
END:VTIMEZONE
END:VCALENDAR
