BEGIN:VCALENDAR
PRODID:-//eluceo/ical//2.0/EN
VERSION:2.0
CALSCALE:GREGORIAN
BEGIN:VEVENT
UID:e266050961a2759a161d71be6a064d43
DTSTAMP:20260420T095034Z
SUMMARY:Regelmeeting November + RAC Basel meets District-Governor Daniel Ke
 uerleber
DESCRIPTION:Herzlich begrüssen\, dürfen wir zu diesem Anlass:\n\nHerr Da
 niel Keuenleber\, der Governor des Distrikts 1980\, und Sarah Haller.\n\nG
 enauere Infos & Traktanden folgen vor dem Regelmeeting!
URL:https://rotaract-basel.ch/fr/agenda/show/121297
DTSTART;TZID=Europe/Zurich:20171107T193000
DTEND;TZID=Europe/Zurich:20171107T193000
LOCATION:Hotel Merian (Raum: &quot\;Wilde Maa&quot\;)
CATEGORIES:Rotaract
END:VEVENT
BEGIN:VTIMEZONE
TZID:Europe/Zurich
BEGIN:STANDARD
DTSTART:20171107T193000
TZNAME:CET
TZOFFSETTO:+0100
TZOFFSETFROM:+0100
END:STANDARD
END:VTIMEZONE
END:VCALENDAR
