BEGIN:VCALENDAR
PRODID:-//eluceo/ical//2.0/EN
VERSION:2.0
CALSCALE:GREGORIAN
BEGIN:VEVENT
UID:23f1308b2152e5b74be66d2e8efc4037
DTSTAMP:20260420T011342Z
SUMMARY:Funevent: Sushi-Abend bei Luca
DESCRIPTION:Für den Funevent im Mai treffen wir uns bei Luca und geniessen
  einen gemeinsamen Sushi-Abend.\n\nDetails folgen.
URL:https://rotaract-basel.ch/fr/agenda/show/120538
DTSTART;TZID=Europe/Zurich:20150519T183000
DTEND;TZID=Europe/Zurich:20150519T203000
LOCATION:Adresse Luca
CATEGORIES:Rotaract
END:VEVENT
BEGIN:VTIMEZONE
TZID:Europe/Zurich
BEGIN:DAYLIGHT
DTSTART:20150519T183000
TZNAME:CEST
TZOFFSETTO:+0200
TZOFFSETFROM:+0200
END:DAYLIGHT
END:VTIMEZONE
END:VCALENDAR
