BEGIN:VCALENDAR
PRODID:-//eluceo/ical//2.0/EN
VERSION:2.0
CALSCALE:GREGORIAN
BEGIN:VEVENT
UID:7fb546d5c135b59bbb53fb7fa4063bea
DTSTAMP:20260424T041252Z
SUMMARY:Regelmeeting
DESCRIPTION:
URL:https://rotaract-basel.ch/es/agenda/show/163088
DTSTART;TZID=Europe/Zurich:20230808T190000
DTEND;TZID=Europe/Zurich:20230808T210000
LOCATION:Markthalle Basel
CATEGORIES:Rotaract
END:VEVENT
BEGIN:VTIMEZONE
TZID:Europe/Zurich
BEGIN:DAYLIGHT
DTSTART:20230808T190000
TZNAME:CEST
TZOFFSETTO:+0200
TZOFFSETFROM:+0200
END:DAYLIGHT
END:VTIMEZONE
END:VCALENDAR
